BEGIN:VCALENDAR
VERSION:2.0
PRODID:-//GULF NATIONAL  DRILLING COMPANY &#8211; A privately owned oil &amp; gas drilling company engaged  in the drilling of oil &amp; gas wells on a contract basis. - ECPv6.8.1//NONSGML v1.0//EN
CALSCALE:GREGORIAN
METHOD:PUBLISH
X-ORIGINAL-URL:https://gndckuwait.com
X-WR-CALDESC:Events for GULF NATIONAL  DRILLING COMPANY &#8211; A privately owned oil &amp; gas drilling company engaged  in the drilling of oil &amp; gas wells on a contract basis.
REFRESH-INTERVAL;VALUE=DURATION:PT1H
X-Robots-Tag:noindex
X-PUBLISHED-TTL:PT1H
BEGIN:VTIMEZONE
TZID:UTC
BEGIN:STANDARD
TZOFFSETFROM:+0000
TZOFFSETTO:+0000
TZNAME:UTC
DTSTART:20150101T000000
END:STANDARD
END:VTIMEZONE
BEGIN:VEVENT
DTSTART;TZID=UTC:20161008T080000
DTEND;TZID=UTC:20161008T170000
DTSTAMP:20260425T131851
CREATED:20240929T181211Z
LAST-MODIFIED:20240930T142139Z
UID:1937-1475913600-1475946000@gndckuwait.com
SUMMARY:RIG-17 Awarded 2 Years LTI Free Oct 2016
DESCRIPTION:RIG-17 Awarded 2 Years LTI Free Oct 2016
URL:https://gndckuwait.com/event/rig-17-awarded-2-years-lti-free-oct-2016/
ATTACH;FMTTYPE=image/png:https://gndckuwait.com/wp-content/uploads/2024/09/LTI_Free-17.png
END:VEVENT
BEGIN:VEVENT
DTSTART;TZID=UTC:20161008T080000
DTEND;TZID=UTC:20161008T170000
DTSTAMP:20260425T131851
CREATED:20240929T181122Z
LAST-MODIFIED:20240930T142223Z
UID:1935-1475913600-1475946000@gndckuwait.com
SUMMARY:RIG-16 Awarded 2 Years LTI Free Oct 2016
DESCRIPTION:RIG-16 Awarded 2 Years LTI Free Oct 2016
URL:https://gndckuwait.com/event/rig-16-awarded-2-years-lti-free-oct-2016/
ATTACH;FMTTYPE=image/png:https://gndckuwait.com/wp-content/uploads/2024/09/LTI_Free.png
END:VEVENT
BEGIN:VEVENT
DTSTART;TZID=UTC:20150929T080000
DTEND;TZID=UTC:20150929T170000
DTSTAMP:20260425T131851
CREATED:20240929T114811Z
LAST-MODIFIED:20240929T180913Z
UID:1780-1443513600-1443546000@gndckuwait.com
SUMMARY:LTI Free Award Ceremony 2015
DESCRIPTION:LTI Free Award Ceremony 2015
URL:https://gndckuwait.com/event/lti-free-award-ceremony-2015/
ATTACH;FMTTYPE=image/png:https://gndckuwait.com/wp-content/uploads/2024/09/event1.png
END:VEVENT
END:VCALENDAR